BEGIN:VCALENDAR
VERSION:2.0
PRODID:spatie/icalendar-generator
DESCRIPTION:Events from STYLE AMERICA moda\, calzado y bolsos
X-WR-CALDESC:Events from STYLE AMERICA moda\, calzado y bolsos
REFRESH-INTERVAL;VALUE=DURATION:PT1440M
X-PUBLISHED-TTL:PT1440M
BEGIN:VTIMEZONE
TZID:America/Bogota
BEGIN:STANDARD
DTSTART:20250916T000000Z
TZOFFSETFROM:-0500
TZOFFSETTO:-0500
END:STANDARD
END:VTIMEZONE
BEGIN:VTIMEZONE
TZID:UTC
BEGIN:STANDARD
DTSTART:20250724T195248Z
TZOFFSETFROM:+0000
TZOFFSETTO:+0000
END:STANDARD
END:VTIMEZONE
BEGIN:VEVENT
UID:26-9
DTSTAMP:20260420T195248Z
SUMMARY:Expo Riva Schuh &amp;amp\; Gardabags
LOCATION:RivadelGarda Fieracongresi   Riva del Garda
ORGANIZER;CN=admin:MAILTO:info@revistastyle.com
DTSTART;TZID=America/Bogota;VALUE=DATE:20260613
DTEND;TZID=America/Bogota;VALUE=DATE:20260617
X-ALT-DESC;FMTTYPE=TEXT/HTML:Expo Riva Schuh &amp;amp\; Gardabags
CATEGORIES:calzado,  marroquinería
URL;VALUE=URI:https://revistastyle.com/mc-events/expo-riva-schuh-gardabags/
METHOD:PUBLISH
END:VEVENT
END:VCALENDAR