BEGIN:VCALENDAR
VERSION:2.0
PRODID:spatie/icalendar-generator
DESCRIPTION:Events from STYLE AMERICA moda\, calzado y bolsos
X-WR-CALDESC:Events from STYLE AMERICA moda\, calzado y bolsos
REFRESH-INTERVAL;VALUE=DURATION:PT1440M
X-PUBLISHED-TTL:PT1440M
BEGIN:VTIMEZONE
TZID:America/Bogota
BEGIN:STANDARD
DTSTART:20251204T090000Z
TZOFFSETFROM:-0500
TZOFFSETTO:-0500
END:STANDARD
END:VTIMEZONE
BEGIN:VTIMEZONE
TZID:UTC
BEGIN:STANDARD
DTSTART:20250724T194948Z
TZOFFSETFROM:+0000
TZOFFSETTO:+0000
END:STANDARD
END:VTIMEZONE
BEGIN:VEVENT
UID:28-4
DTSTAMP:20260420T194948Z
SUMMARY:Texworld Apparel Sourcing Paris
LOCATION:Paris Le Bourget   Paris
ORGANIZER;CN=admin:MAILTO:info@revistastyle.com
RRULE:FREQ=YEARLY;BYMONTH=08;BYDAY=31;UNTIL=20290209T000000Z
DTSTART;TZID=America/Bogota:20260831T090000
DTEND;TZID=America/Bogota:20260902T180000
X-ALT-DESC;FMTTYPE=TEXT/HTML:Feria de materiales\, textiles\, insumos y com
 ponentes para confección\, moda\, zapatos y accesorios
CATEGORIES:calzado,  marroquinería,  materiales
URL;VALUE=URI:https://revistastyle.com/mc-events/texworld-apparel-sourcing-
 paris/?mc_id=28
METHOD:PUBLISH
END:VEVENT
END:VCALENDAR