BEGIN:VCALENDAR
VERSION:2.0
PRODID:spatie/icalendar-generator
DESCRIPTION:Events from STYLE AMERICA moda\, calzado y bolsos
X-WR-CALDESC:Events from STYLE AMERICA moda\, calzado y bolsos
REFRESH-INTERVAL;VALUE=DURATION:PT1440M
X-PUBLISHED-TTL:PT1440M
BEGIN:VTIMEZONE
TZID:America/Bogota
BEGIN:STANDARD
DTSTART:20250821T000000Z
TZOFFSETFROM:-0500
TZOFFSETTO:-0500
END:STANDARD
END:VTIMEZONE
BEGIN:VTIMEZONE
TZID:UTC
BEGIN:STANDARD
DTSTART:20250724T213302Z
TZOFFSETFROM:+0000
TZOFFSETTO:+0000
END:STANDARD
END:VTIMEZONE
BEGIN:VEVENT
UID:27-10
DTSTAMP:20260420T213302Z
SUMMARY:BF Show
LOCATION:Distrito Anhembi   Sao Paulo
ORGANIZER;CN=admin:MAILTO:info@revistastyle.com
DTSTART;TZID=America/Bogota;VALUE=DATE:20260518
DTEND;TZID=America/Bogota;VALUE=DATE:20260521
X-ALT-DESC;FMTTYPE=TEXT/HTML:
CATEGORIES:calzado
URL;VALUE=URI:https://revistastyle.com/mc-events/bf-show/
METHOD:PUBLISH
END:VEVENT
END:VCALENDAR