BEGIN:VCALENDAR
VERSION:2.0
PRODID:spatie/icalendar-generator
DESCRIPTION:Events from STYLE AMERICA moda\, calzado y bolsos
X-WR-CALDESC:Events from STYLE AMERICA moda\, calzado y bolsos
REFRESH-INTERVAL;VALUE=DURATION:PT1440M
X-PUBLISHED-TTL:PT1440M
BEGIN:VTIMEZONE
TZID:America/Bogota
BEGIN:STANDARD
DTSTART:20260606T120000Z
TZOFFSETFROM:-0500
TZOFFSETTO:-0500
END:STANDARD
END:VTIMEZONE
BEGIN:VTIMEZONE
TZID:UTC
BEGIN:STANDARD
DTSTART:20250724T111804Z
TZOFFSETFROM:+0000
TZOFFSETTO:+0000
END:STANDARD
END:VTIMEZONE
BEGIN:VEVENT
UID:14-3
DTSTAMP:20260420T111804Z
SUMMARY:FIMEC
LOCATION:Fenac Fenac  Novo Hamburgo
ORGANIZER;CN=admin:MAILTO:info@revistastyle.com
RRULE:FREQ=YEARLY;BYMONTH=03;BYDAY=03;UNTIL=20290306T000000Z
DTSTART;TZID=America/Bogota:20270303T120000
DTEND;TZID=America/Bogota:20270305T200000
X-ALT-DESC;FMTTYPE=TEXT/HTML:FIMEC - Feria de materiales\, insumos\, quími
 cos\, cuero y maquinaria
CATEGORIES:materiales,  maquinaria
URL;VALUE=URI:https://revistastyle.com/mc-events/fimec/?mc_id=14
METHOD:PUBLISH
END:VEVENT
END:VCALENDAR